BEGIN:VCALENDAR
VERSION:2.0
PRODID:-//Markaut//Trade Fair Calendar//EN
CALSCALE:GREGORIAN
METHOD:PUBLISH
BEGIN:VEVENT
UID:cphi-south-east-asia-pharma-expo-bangkok-thailand@markaut.com
DTSTAMP:20260424T113559Z
DTSTART;VALUE=DATE:20260424
DTEND;VALUE=DATE:20260425
SUMMARY:CPhI South East Asia - Pharma Expo
LOCATION:QSNCC Queen Sirikit National Convention Center, Bangkok, Thailand
DESCRIPTION:International Pharmaceutical Exhibition
URL:https://www.markaut.com/ar/fairs/cphi-south-east-asia-pharma-expo-bangkok-thailand/
END:VEVENT
END:VCALENDAR
