BEGIN:VCALENDAR
VERSION:2.0
PRODID:-//Markaut//Trade Fair Calendar//EN
CALSCALE:GREGORIAN
METHOD:PUBLISH
BEGIN:VEVENT
UID:china-refrigeration-cr-expo-not-yet-determined-china-peoples-republic@markaut.com
DTSTAMP:20260424T105635Z
DTSTART;VALUE=DATE:20270401
DTEND;VALUE=DATE:20270402
SUMMARY:CHINA REFRIGERATION/CR EXPO
LOCATION:noch offen/not yet determined, not yet determined, China, People\'s Republic
DESCRIPTION:International Exhibition for Refrigeration, Air-Conditioning, Heating and Ventilation, Frozen Food Processing, Packaging and Storage
URL:https://www.markaut.com/ar/fairs/china-refrigeration-cr-expo-not-yet-determined-china-peoples-republic/
END:VEVENT
END:VCALENDAR
