BEGIN:VCALENDAR
VERSION:2.0
PRODID:-//Markaut//Trade Fair Calendar//EN
CALSCALE:GREGORIAN
METHOD:PUBLISH
BEGIN:VEVENT
UID:caggtus-leipzig-leipzig-germany@markaut.com
DTSTAMP:20260423T103302Z
DTSTART;VALUE=DATE:20260423
DTEND;VALUE=DATE:20260424
SUMMARY:CAGGTUS Leipzig
LOCATION:Messegelände, Leipzig, Germany
DESCRIPTION:Your Gaming Festival
URL:https://www.markaut.com/ar/fairs/caggtus-leipzig-leipzig-germany/
END:VEVENT
END:VCALENDAR
